Package: SharedObject Version: 1.16.0 Command: /Library/Frameworks/R.framework/Resources/bin/R CMD build --keep-empty-dirs --no-resave-data SharedObject StartedAt: 2024-03-03 18:19:20 -0500 (Sun, 03 Mar 2024) EndedAt: 2024-03-03 18:20:17 -0500 (Sun, 03 Mar 2024) EllapsedTime: 56.5 seconds RetCode: 0 Status: OK PackageFile: SharedObject_1.16.0.tar.gz PackageFileSize: 1.874 MiB