Package: SeqVarTools Version: 1.40.0 Command: /Library/Frameworks/R.framework/Resources/bin/R CMD check --install=check:SeqVarTools.install-out.txt --library=/Library/Frameworks/R.framework/Resources/library --no-vignettes --timings SeqVarTools_1.40.0.tar.gz StartedAt: 2024-04-16 08:50:51 -0400 (Tue, 16 Apr 2024) EndedAt: 2024-04-16 08:56:59 -0400 (Tue, 16 Apr 2024) EllapsedTime: 367.6 seconds RetCode: 0 Status: OK CheckDir: SeqVarTools.Rcheck Warnings: 0