Package: SeqGate Version: 1.12.0 Command: /home/biocbuild/bbs-3.18-bioc/R/bin/R CMD build --keep-empty-dirs --no-resave-data SeqGate StartedAt: 2024-04-15 19:13:06 -0400 (Mon, 15 Apr 2024) EndedAt: 2024-04-15 19:13:48 -0400 (Mon, 15 Apr 2024) EllapsedTime: 41.8 seconds RetCode: 0 Status: OK PackageFile: SeqGate_1.12.0.tar.gz PackageFileSize: 248.6 KiB