Package: SeqArray Version: 1.42.4 Command: rm -rf SeqArray.buildbin-libdir && mkdir SeqArray.buildbin-libdir && F:\biocbuild\bbs-3.18-bioc\R\bin\R.exe CMD INSTALL --build --library=SeqArray.buildbin-libdir SeqArray_1.42.4.tar.gz StartedAt: 2024-04-16 07:40:36 -0400 (Tue, 16 Apr 2024) EndedAt: 2024-04-16 07:41:44 -0400 (Tue, 16 Apr 2024) EllapsedTime: 67.9 seconds RetCode: 0 Status: OK PackageFile: SeqArray_1.42.4.zip PackageFileSize: 3.476 MiB