Package: SeqArray Version: 1.42.4 Command: /home/biocbuild/bbs-3.18-bioc/R/bin/R CMD INSTALL SeqArray StartedAt: 2024-04-15 15:10:43 -0400 (Mon, 15 Apr 2024) EndedAt: 2024-04-15 15:11:22 -0400 (Mon, 15 Apr 2024) EllapsedTime: 39.2 seconds RetCode: 0 Status: OK