Package: SeqArray Version: 1.42.4 Command: /home/biocbuild/bbs-3.18-bioc/R/bin/R CMD build --keep-empty-dirs --no-resave-data SeqArray StartedAt: 2024-04-15 19:12:21 -0400 (Mon, 15 Apr 2024) EndedAt: 2024-04-15 19:14:31 -0400 (Mon, 15 Apr 2024) EllapsedTime: 129.9 seconds RetCode: 0 Status: OK PackageFile: SeqArray_1.42.4.tar.gz PackageFileSize: 3.428 MiB