Package: SeqArray Version: 1.42.4 Command: /Library/Frameworks/R.framework/Resources/bin/R CMD check --install=check:SeqArray.install-out.txt --library=/Library/Frameworks/R.framework/Resources/library --no-vignettes --timings SeqArray_1.42.4.tar.gz StartedAt: 2024-04-16 08:47:30 -0400 (Tue, 16 Apr 2024) EndedAt: 2024-04-16 08:54:20 -0400 (Tue, 16 Apr 2024) EllapsedTime: 410.4 seconds RetCode: 0 Status: OK CheckDir: SeqArray.Rcheck Warnings: 0