Package: SeqArray Version: 1.42.4 Command: /Library/Frameworks/R.framework/Resources/bin/R CMD build --keep-empty-dirs --no-resave-data SeqArray StartedAt: 2024-04-15 21:53:47 -0400 (Mon, 15 Apr 2024) EndedAt: 2024-04-15 21:59:05 -0400 (Mon, 15 Apr 2024) EllapsedTime: 318.2 seconds RetCode: 0 Status: OK PackageFile: SeqArray_1.42.4.tar.gz PackageFileSize: 3.703 MiB