Package: SeqArray Version: 1.42.4 Command: rm -rf SeqArray.buildbin-libdir && mkdir SeqArray.buildbin-libdir && /Users/biocbuild/BBS/utils/build-universal.sh SeqArray_1.42.4.tar.gz /Library/Frameworks/R.framework/Resources/bin/R SeqArray.buildbin-libdir StartedAt: 2024-04-16 12:43:10 -0400 (Tue, 16 Apr 2024) EndedAt: 2024-04-16 12:44:40 -0400 (Tue, 16 Apr 2024) EllapsedTime: 90.1 seconds RetCode: 0 Status: OK PackageFile: SeqArray_1.42.4.tgz PackageFileSize: 4.158 MiB