Package: SemDist Version: 1.36.0 Command: /Library/Frameworks/R.framework/Resources/bin/R CMD build --keep-empty-dirs --no-resave-data SemDist StartedAt: 2024-03-03 18:17:46 -0500 (Sun, 03 Mar 2024) EndedAt: 2024-03-03 18:18:32 -0500 (Sun, 03 Mar 2024) EllapsedTime: 46.3 seconds RetCode: 0 Status: OK PackageFile: SemDist_1.36.0.tar.gz PackageFileSize: 1.953 MiB