Package: SemDist Version: 1.36.0 Command: /home/biocbuild/R/R-4.3.1/bin/R CMD check --install=check:SemDist.install-out.txt --library=/home/biocbuild/R/R-4.3.1/site-library --no-vignettes --timings SemDist_1.36.0.tar.gz StartedAt: 2023-11-02 14:16:40 -0000 (Thu, 02 Nov 2023) EndedAt: 2023-11-02 14:19:40 -0000 (Thu, 02 Nov 2023) EllapsedTime: 179.5 seconds RetCode: 0 Status: OK CheckDir: SemDist.Rcheck Warnings: 0