Package: SemDist Version: 1.36.0 Command: /home/biocbuild/R/R-4.3.1/bin/R CMD build --keep-empty-dirs --no-resave-data SemDist StartedAt: 2023-11-02 06:00:35 -0000 (Thu, 02 Nov 2023) EndedAt: 2023-11-02 06:01:17 -0000 (Thu, 02 Nov 2023) EllapsedTime: 42.1 seconds RetCode: 0 Status: OK PackageFile: SemDist_1.36.0.tar.gz PackageFileSize: 1.943 MiB