Package: Sconify Version: 1.22.0 Command: rm -rf Sconify.buildbin-libdir && mkdir Sconify.buildbin-libdir && F:\biocbuild\bbs-3.18-bioc\R\bin\R.exe CMD INSTALL --build --library=Sconify.buildbin-libdir Sconify_1.22.0.tar.gz StartedAt: 2024-04-16 07:39:11 -0400 (Tue, 16 Apr 2024) EndedAt: 2024-04-16 07:39:28 -0400 (Tue, 16 Apr 2024) EllapsedTime: 16.6 seconds RetCode: 0 Status: OK PackageFile: Sconify_1.22.0.zip PackageFileSize: 3.112 MiB