Package: Sconify Version: 1.22.0 Command: /Library/Frameworks/R.framework/Resources/bin/R CMD check --install=check:Sconify.install-out.txt --library=/Library/Frameworks/R.framework/Resources/library --no-vignettes --timings Sconify_1.22.0.tar.gz StartedAt: 2024-04-16 08:33:53 -0400 (Tue, 16 Apr 2024) EndedAt: 2024-04-16 08:37:56 -0400 (Tue, 16 Apr 2024) EllapsedTime: 243.4 seconds RetCode: 0 Status: OK CheckDir: Sconify.Rcheck Warnings: 0