Package: SamSPECTRAL Version: 1.56.0 Command: chmod a+r SamSPECTRAL -R && F:\biocbuild\bbs-3.18-bioc\R\bin\R.exe CMD build --keep-empty-dirs --no-resave-data SamSPECTRAL StartedAt: 2024-04-15 20:52:02 -0400 (Mon, 15 Apr 2024) EndedAt: 2024-04-15 20:53:06 -0400 (Mon, 15 Apr 2024) EllapsedTime: 63.9 seconds RetCode: 0 Status: OK PackageFile: SamSPECTRAL_1.56.0.tar.gz PackageFileSize: 833.4 KiB