Package: SWATH2stats Version: 1.32.1 Command: /home/biocbuild/bbs-3.18-bioc/R/bin/R CMD build --keep-empty-dirs --no-resave-data SWATH2stats StartedAt: 2024-04-15 19:31:08 -0400 (Mon, 15 Apr 2024) EndedAt: 2024-04-15 19:31:50 -0400 (Mon, 15 Apr 2024) EllapsedTime: 42.2 seconds RetCode: 0 Status: OK PackageFile: SWATH2stats_1.32.1.tar.gz PackageFileSize: 2.922 MiB