Package: SWATH2stats Version: 1.32.1 Command: /Library/Frameworks/R.framework/Resources/bin/R CMD INSTALL SWATH2stats StartedAt: 2024-04-15 15:41:01 -0400 (Mon, 15 Apr 2024) EndedAt: 2024-04-15 15:41:40 -0400 (Mon, 15 Apr 2024) EllapsedTime: 39.1 seconds RetCode: 0 Status: OK