Package: SWATH2stats Version: 1.32.0 Command: /home/biocbuild/R/R-4.3.1/bin/R CMD build --keep-empty-dirs --no-resave-data SWATH2stats StartedAt: 2023-11-02 06:53:40 -0000 (Thu, 02 Nov 2023) EndedAt: 2023-11-02 06:54:42 -0000 (Thu, 02 Nov 2023) EllapsedTime: 62.0 seconds RetCode: 0 Status: OK PackageFile: SWATH2stats_1.32.0.tar.gz PackageFileSize: 3.015 MiB