Package: SVMDO Version: 1.2.8 Command: rm -rf SVMDO.buildbin-libdir && mkdir SVMDO.buildbin-libdir && F:\biocbuild\bbs-3.18-bioc\R\bin\R.exe CMD INSTALL --build --library=SVMDO.buildbin-libdir SVMDO_1.2.8.tar.gz StartedAt: 2024-04-16 07:46:34 -0400 (Tue, 16 Apr 2024) EndedAt: 2024-04-16 07:47:28 -0400 (Tue, 16 Apr 2024) EllapsedTime: 54.1 seconds RetCode: 0 Status: OK PackageFile: SVMDO_1.2.8.zip PackageFileSize: 2.369 MiB