Package: SUITOR Version: 1.4.0 Command: rm -rf SUITOR.buildbin-libdir && mkdir SUITOR.buildbin-libdir && F:\biocbuild\bbs-3.18-bioc\R\bin\R.exe CMD INSTALL --build --library=SUITOR.buildbin-libdir SUITOR_1.4.0.tar.gz StartedAt: 2024-04-16 07:46:16 -0400 (Tue, 16 Apr 2024) EndedAt: 2024-04-16 07:46:32 -0400 (Tue, 16 Apr 2024) EllapsedTime: 16.2 seconds RetCode: 0 Status: OK PackageFile: SUITOR_1.4.0.zip PackageFileSize: 313.6 KiB