Package: SUITOR Version: 1.4.0 Command: /home/biocbuild/R/R-4.3.1/bin/R CMD check --install=check:SUITOR.install-out.txt --library=/home/biocbuild/R/R-4.3.1/site-library --no-vignettes --timings SUITOR_1.4.0.tar.gz StartedAt: 2023-11-02 14:42:58 -0000 (Thu, 02 Nov 2023) EndedAt: 2023-11-02 14:43:52 -0000 (Thu, 02 Nov 2023) EllapsedTime: 54.1 seconds RetCode: 0 Status: OK CheckDir: SUITOR.Rcheck Warnings: 0