Package: STROMA4 Version: 1.26.0 Command: /Library/Frameworks/R.framework/Resources/bin/R CMD build --keep-empty-dirs --no-resave-data STROMA4 StartedAt: 2024-04-15 22:23:45 -0400 (Mon, 15 Apr 2024) EndedAt: 2024-04-15 22:24:22 -0400 (Mon, 15 Apr 2024) EllapsedTime: 37.4 seconds RetCode: 0 Status: OK PackageFile: STROMA4_1.26.0.tar.gz PackageFileSize: 211.1 KiB