Package: STROMA4 Version: 1.26.0 Command: rm -rf STROMA4.buildbin-libdir && mkdir STROMA4.buildbin-libdir && /Users/biocbuild/BBS/utils/build-universal.sh STROMA4_1.26.0.tar.gz /Library/Frameworks/R.framework/Resources/bin/R STROMA4.buildbin-libdir StartedAt: 2024-04-16 12:49:53 -0400 (Tue, 16 Apr 2024) EndedAt: 2024-04-16 12:50:02 -0400 (Tue, 16 Apr 2024) EllapsedTime: 8.8 seconds RetCode: 0 Status: OK PackageFile: STROMA4_1.26.0.tgz PackageFileSize: 243.2 KiB