Package: STRINGdb Version: 2.14.3 Command: F:\biocbuild\bbs-3.18-bioc\R\bin\R.exe CMD INSTALL STRINGdb StartedAt: 2024-04-15 15:51:27 -0400 (Mon, 15 Apr 2024) EndedAt: 2024-04-15 15:51:41 -0400 (Mon, 15 Apr 2024) EllapsedTime: 14.2 seconds RetCode: 0 Status: OK