Package: STRINGdb Version: 2.14.3 Command: F:\biocbuild\bbs-3.18-bioc\R\bin\R.exe CMD check --no-multiarch --install=check:STRINGdb.install-out.txt --library=F:\biocbuild\bbs-3.18-bioc\R\library --no-vignettes --timings STRINGdb_2.14.3.tar.gz StartedAt: 2024-04-16 05:36:39 -0400 (Tue, 16 Apr 2024) EndedAt: 2024-04-16 05:42:51 -0400 (Tue, 16 Apr 2024) EllapsedTime: 372.2 seconds RetCode: 0 Status: OK CheckDir: STRINGdb.Rcheck Warnings: 0