Package: STRINGdb Version: 2.14.3 Command: chmod a+r STRINGdb -R && F:\biocbuild\bbs-3.18-bioc\R\bin\R.exe CMD build --keep-empty-dirs --no-resave-data STRINGdb StartedAt: 2024-04-15 21:32:40 -0400 (Mon, 15 Apr 2024) EndedAt: 2024-04-15 21:35:50 -0400 (Mon, 15 Apr 2024) EllapsedTime: 190.4 seconds RetCode: 0 Status: OK PackageFile: STRINGdb_2.14.3.tar.gz PackageFileSize: 9.869 MiB