Package: STRINGdb Version: 2.14.3 Command: rm -rf STRINGdb.buildbin-libdir && mkdir STRINGdb.buildbin-libdir && F:\biocbuild\bbs-3.18-bioc\R\bin\R.exe CMD INSTALL --build --library=STRINGdb.buildbin-libdir STRINGdb_2.14.3.tar.gz StartedAt: 2024-04-16 07:46:03 -0400 (Tue, 16 Apr 2024) EndedAt: 2024-04-16 07:46:26 -0400 (Tue, 16 Apr 2024) EllapsedTime: 23.6 seconds RetCode: 0 Status: OK PackageFile: STRINGdb_2.14.3.zip PackageFileSize: 10.05 MiB