Package: STRINGdb Version: 2.14.3 Command: /home/biocbuild/bbs-3.18-bioc/R/bin/R CMD check --install=check:STRINGdb.install-out.txt --library=/home/biocbuild/bbs-3.18-bioc/R/site-library --timings STRINGdb_2.14.3.tar.gz StartedAt: 2024-04-16 04:29:59 -0400 (Tue, 16 Apr 2024) EndedAt: 2024-04-16 04:43:59 -0400 (Tue, 16 Apr 2024) EllapsedTime: 840.6 seconds RetCode: 0 Status: OK CheckDir: STRINGdb.Rcheck Warnings: 0