Package: STRINGdb Version: 2.14.3 Command: /home/biocbuild/bbs-3.18-bioc/R/bin/R CMD build --keep-empty-dirs --no-resave-data STRINGdb StartedAt: 2024-04-15 19:29:22 -0400 (Mon, 15 Apr 2024) EndedAt: 2024-04-15 19:33:35 -0400 (Mon, 15 Apr 2024) EllapsedTime: 253.0 seconds RetCode: 0 Status: OK PackageFile: STRINGdb_2.14.3.tar.gz PackageFileSize: 9.867 MiB