Package: STRINGdb Version: 2.14.3 Command: /Library/Frameworks/R.framework/Resources/bin/R CMD INSTALL STRINGdb StartedAt: 2024-04-15 15:23:19 -0400 (Mon, 15 Apr 2024) EndedAt: 2024-04-15 15:23:30 -0400 (Mon, 15 Apr 2024) EllapsedTime: 11.5 seconds RetCode: 0 Status: OK