Package: STRINGdb Version: 2.14.3 Command: /Library/Frameworks/R.framework/Resources/bin/R CMD check --install=check:STRINGdb.install-out.txt --library=/Library/Frameworks/R.framework/Resources/library --no-vignettes --timings STRINGdb_2.14.3.tar.gz StartedAt: 2024-04-16 09:36:10 -0400 (Tue, 16 Apr 2024) EndedAt: 2024-04-16 09:44:17 -0400 (Tue, 16 Apr 2024) EllapsedTime: 487.5 seconds RetCode: 0 Status: OK CheckDir: STRINGdb.Rcheck Warnings: 0