Package: STRINGdb Version: 2.14.3 Command: rm -rf STRINGdb.buildbin-libdir && mkdir STRINGdb.buildbin-libdir && /Users/biocbuild/BBS/utils/build-universal.sh STRINGdb_2.14.3.tar.gz /Library/Frameworks/R.framework/Resources/bin/R STRINGdb.buildbin-libdir StartedAt: 2024-04-16 12:49:52 -0400 (Tue, 16 Apr 2024) EndedAt: 2024-04-16 12:50:06 -0400 (Tue, 16 Apr 2024) EllapsedTime: 14.4 seconds RetCode: 0 Status: OK PackageFile: STRINGdb_2.14.3.tgz PackageFileSize: 10.13 MiB