Package: STRINGdb Version: 2.14.0 Command: /Library/Frameworks/R.framework/Resources/bin/R CMD build --keep-empty-dirs --no-resave-data STRINGdb StartedAt: 2024-03-03 18:30:45 -0500 (Sun, 03 Mar 2024) EndedAt: 2024-03-03 18:34:57 -0500 (Sun, 03 Mar 2024) EllapsedTime: 251.2 seconds RetCode: 0 Status: OK PackageFile: STRINGdb_2.14.0.tar.gz PackageFileSize: 7.892 MiB