Package: STRINGdb Version: 2.14.0 Command: rm -rf STRINGdb.buildbin-libdir && mkdir STRINGdb.buildbin-libdir && /Users/biocbuild/BBS/utils/build-universal.sh STRINGdb_2.14.0.tar.gz /Library/Frameworks/R.framework/Resources/bin/R STRINGdb.buildbin-libdir StartedAt: 2024-03-04 01:07:26 -0500 (Mon, 04 Mar 2024) EndedAt: 2024-03-04 01:07:36 -0500 (Mon, 04 Mar 2024) EllapsedTime: 10.3 seconds RetCode: 0 Status: OK PackageFile: STRINGdb_2.14.0.tgz PackageFileSize: 8.077 MiB