Package: STRINGdb Version: 2.13.1 Command: /home/biocbuild/R/R-4.3.1/bin/R CMD check --install=check:STRINGdb.install-out.txt --library=/home/biocbuild/R/R-4.3.1/site-library --timings STRINGdb_2.13.1.tar.gz StartedAt: 2023-10-23 13:48:42 -0000 (Mon, 23 Oct 2023) EndedAt: 2023-10-23 14:14:12 -0000 (Mon, 23 Oct 2023) EllapsedTime: 1530.6 seconds RetCode: 0 Status: OK CheckDir: STRINGdb.Rcheck Warnings: 0