Package: SRAdb Version: 1.64.0 Command: /home/biocbuild/R/R-4.3.1/bin/R CMD check --install=check:SRAdb.install-out.txt --library=/home/biocbuild/R/R-4.3.1/site-library --no-vignettes --timings SRAdb_1.64.0.tar.gz StartedAt: 2023-11-02 14:37:32 -0000 (Thu, 02 Nov 2023) EndedAt: 2023-11-02 14:38:33 -0000 (Thu, 02 Nov 2023) EllapsedTime: 61.1 seconds RetCode: 0 Status: OK CheckDir: SRAdb.Rcheck Warnings: 0