Package: SQLDataFrame Version: 1.16.1 Command: /Library/Frameworks/R.framework/Resources/bin/R CMD build --keep-empty-dirs --no-resave-data SQLDataFrame StartedAt: 2024-04-15 22:19:01 -0400 (Mon, 15 Apr 2024) EndedAt: 2024-04-15 22:20:23 -0400 (Mon, 15 Apr 2024) EllapsedTime: 81.6 seconds RetCode: 0 Status: OK PackageFile: SQLDataFrame_1.16.1.tar.gz PackageFileSize: 637.6 KiB