Package: SQLDataFrame Version: 1.16.1 Command: /Library/Frameworks/R.framework/Resources/bin/R CMD check --install=check:SQLDataFrame.install-out.txt --library=/Library/Frameworks/R.framework/Resources/library --no-vignettes --timings SQLDataFrame_1.16.1.tar.gz StartedAt: 2024-03-03 23:43:49 -0500 (Sun, 03 Mar 2024) EndedAt: 2024-03-03 23:45:53 -0500 (Sun, 03 Mar 2024) EllapsedTime: 123.5 seconds RetCode: 0 Status: WARNINGS CheckDir: SQLDataFrame.Rcheck Warnings: 1