Package: SPOTlight Version: 1.6.7 Command: F:\biocbuild\bbs-3.18-bioc\R\bin\R.exe CMD INSTALL SPOTlight StartedAt: 2024-04-15 15:59:27 -0400 (Mon, 15 Apr 2024) EndedAt: 2024-04-15 16:00:07 -0400 (Mon, 15 Apr 2024) EllapsedTime: 39.9 seconds RetCode: 0 Status: OK