Package: SPOTlight Version: 1.6.7 Command: rm -rf SPOTlight.buildbin-libdir && mkdir SPOTlight.buildbin-libdir && F:\biocbuild\bbs-3.18-bioc\R\bin\R.exe CMD INSTALL --build --library=SPOTlight.buildbin-libdir SPOTlight_1.6.7.tar.gz StartedAt: 2024-04-16 07:45:08 -0400 (Tue, 16 Apr 2024) EndedAt: 2024-04-16 07:45:44 -0400 (Tue, 16 Apr 2024) EllapsedTime: 36.1 seconds RetCode: 0 Status: OK PackageFile: SPOTlight_1.6.7.zip PackageFileSize: 1.553 MiB