Package: SPOTlight Version: 1.6.7 Command: /Library/Frameworks/R.framework/Resources/bin/R CMD INSTALL SPOTlight StartedAt: 2024-04-15 15:39:55 -0400 (Mon, 15 Apr 2024) EndedAt: 2024-04-15 15:40:50 -0400 (Mon, 15 Apr 2024) EllapsedTime: 54.5 seconds RetCode: 0 Status: OK