Package: SPOTlight Version: 1.6.7 Command: rm -rf SPOTlight.buildbin-libdir && mkdir SPOTlight.buildbin-libdir && /Users/biocbuild/BBS/utils/build-universal.sh SPOTlight_1.6.7.tar.gz /Library/Frameworks/R.framework/Resources/bin/R SPOTlight.buildbin-libdir StartedAt: 2024-04-16 12:48:40 -0400 (Tue, 16 Apr 2024) EndedAt: 2024-04-16 12:49:42 -0400 (Tue, 16 Apr 2024) EllapsedTime: 61.8 seconds RetCode: 0 Status: OK PackageFile: SPOTlight_1.6.7.tgz PackageFileSize: 4.243 MiB