Package: SPOTlight Version: 1.5.2 Command: /home/biocbuild/R/R-4.3.1/bin/R CMD check --install=check:SPOTlight.install-out.txt --library=/home/biocbuild/R/R-4.3.1/site-library --timings SPOTlight_1.5.2.tar.gz StartedAt: 2023-10-24 13:36:16 -0000 (Tue, 24 Oct 2023) EndedAt: 2023-10-24 13:47:14 -0000 (Tue, 24 Oct 2023) EllapsedTime: 658.0 seconds RetCode: 0 Status: OK CheckDir: SPOTlight.Rcheck Warnings: 0