Package: SPONGE Version: 1.24.0 Command: /Library/Frameworks/R.framework/Resources/bin/R CMD INSTALL SPONGE StartedAt: 2024-04-15 16:36:59 -0400 (Mon, 15 Apr 2024) EndedAt: 2024-04-15 16:39:13 -0400 (Mon, 15 Apr 2024) EllapsedTime: 133.7 seconds RetCode: 0 Status: OK