Package: SPONGE Version: 1.24.0 Command: /Library/Frameworks/R.framework/Resources/bin/R CMD build --keep-empty-dirs --no-resave-data SPONGE StartedAt: 2024-03-03 18:28:08 -0500 (Sun, 03 Mar 2024) EndedAt: 2024-03-03 18:31:45 -0500 (Sun, 03 Mar 2024) EllapsedTime: 217.1 seconds RetCode: 0 Status: OK PackageFile: SPONGE_1.24.0.tar.gz PackageFileSize: 8.811 MiB