Package: SOMNiBUS Version: 1.10.0 Command: rm -rf SOMNiBUS.buildbin-libdir && mkdir SOMNiBUS.buildbin-libdir && /Users/biocbuild/BBS/utils/build-universal.sh SOMNiBUS_1.10.0.tar.gz /Library/Frameworks/R.framework/Resources/bin/R SOMNiBUS.buildbin-libdir StartedAt: 2024-03-04 01:05:57 -0500 (Mon, 04 Mar 2024) EndedAt: 2024-03-04 01:07:09 -0500 (Mon, 04 Mar 2024) EllapsedTime: 72.0 seconds RetCode: 0 Status: OK PackageFile: SOMNiBUS_1.10.0.tgz PackageFileSize: 631.1 KiB