Package: SMITE Version: 1.30.0 Command: F:\biocbuild\bbs-3.18-bioc\R\bin\R.exe CMD INSTALL SMITE StartedAt: 2024-04-15 16:12:49 -0400 (Mon, 15 Apr 2024) EndedAt: 2024-04-15 16:13:52 -0400 (Mon, 15 Apr 2024) EllapsedTime: 63.5 seconds RetCode: 0 Status: OK