Package: SMITE Version: 1.30.0 Command: /home/biocbuild/bbs-3.18-bioc/R/bin/R CMD INSTALL SMITE StartedAt: 2024-04-15 15:26:14 -0400 (Mon, 15 Apr 2024) EndedAt: 2024-04-15 15:27:00 -0400 (Mon, 15 Apr 2024) EllapsedTime: 45.9 seconds RetCode: 0 Status: OK