Package: SMITE Version: 1.30.0 Command: /Library/Frameworks/R.framework/Resources/bin/R CMD INSTALL SMITE StartedAt: 2024-04-15 15:47:04 -0400 (Mon, 15 Apr 2024) EndedAt: 2024-04-15 15:48:42 -0400 (Mon, 15 Apr 2024) EllapsedTime: 98.1 seconds RetCode: 0 Status: OK