Package: SMITE Version: 1.30.0 Command: /Library/Frameworks/R.framework/Resources/bin/R CMD build --keep-empty-dirs --no-resave-data SMITE StartedAt: 2024-04-15 22:07:47 -0400 (Mon, 15 Apr 2024) EndedAt: 2024-04-15 22:11:00 -0400 (Mon, 15 Apr 2024) EllapsedTime: 193.7 seconds RetCode: 0 Status: OK PackageFile: SMITE_1.30.0.tar.gz PackageFileSize: 3.087 MiB